BEGIN:VCALENDAR
VERSION:2.0
PRODID:-//Bellarine Secondary College - ECPv4.8.1//NONSGML v1.0//EN
CALSCALE:GREGORIAN
METHOD:PUBLISH
X-WR-CALNAME:Bellarine Secondary College
X-ORIGINAL-URL:http://www.bellarinesc.vic.edu.au
X-WR-CALDESC:Events for Bellarine Secondary College
BEGIN:VEVENT
DTSTART;VALUE=DATE:20190128
DTEND;VALUE=DATE:20190129
DTSTAMP:20190228T134821
CREATED:20190124T021846Z
LAST-MODIFIED:20190124T021846Z
UID:2384-1548633600-1548719999@www.bellarinesc.vic.edu.au
SUMMARY:Australia Day Public Holiday
DESCRIPTION:
URL:http://www.bellarinesc.vic.edu.au/event/australia-day-public-holiday/
END:VEVENT
BEGIN:VEVENT
DTSTART;TZID=UTC+0:20190130T083000
DTEND;TZID=UTC+0:20190130T163000
DTSTAMP:20190228T134821
CREATED:20190124T022240Z
LAST-MODIFIED:20190124T022443Z
UID:2393-1548837000-1548865800@www.bellarinesc.vic.edu.au
SUMMARY:Administration Offices open 8:30am – 4:30pm
DESCRIPTION:
URL:http://www.bellarinesc.vic.edu.au/event/administration-offices-open-830am-400pm/
END:VEVENT
BEGIN:VEVENT
DTSTART;TZID=UTC+0:20190130T090000
DTEND;TZID=UTC+0:20190130T153000
DTSTAMP:20190228T134821
CREATED:20190124T022005Z
LAST-MODIFIED:20190124T022005Z
UID:2386-1548838800-1548862200@www.bellarinesc.vic.edu.au
SUMMARY:Book Collection Day @ Drysdale Campus 9am - 3:30pm
DESCRIPTION:All books ordered through the booklists can be collected today at the Drysdale Campus.  \n
URL:http://www.bellarinesc.vic.edu.au/event/book-collection-day-drysdale-campus-9am-330pm/
END:VEVENT
BEGIN:VEVENT
DTSTART;TZID=UTC+0:20190131T083000
DTEND;TZID=UTC+0:20190131T153000
DTSTAMP:20190228T134822
CREATED:20190124T021733Z
LAST-MODIFIED:20190124T021733Z
UID:2380-1548923400-1548948600@www.bellarinesc.vic.edu.au
SUMMARY:Year 7\, 9 & 12 – Thursday 31st January 2019
DESCRIPTION:First day back for these Year levels  \n
URL:http://www.bellarinesc.vic.edu.au/event/year-7-9-12-thursday-31st-january-2019/
END:VEVENT
BEGIN:VEVENT
DTSTART;TZID=UTC+0:20190201T083000
DTEND;TZID=UTC+0:20190201T153000
DTSTAMP:20190228T134822
CREATED:20190124T021818Z
LAST-MODIFIED:20190124T021818Z
UID:2382-1549009800-1549035000@www.bellarinesc.vic.edu.au
SUMMARY:ALL STUDENTS – Friday 1st February 2019
DESCRIPTION:All students return to school.  \n
URL:http://www.bellarinesc.vic.edu.au/event/all-students-friday-1st-february-2019/
END:VEVENT
BEGIN:VEVENT
DTSTART;TZID=UTC+0:20190205T151500
DTEND;TZID=UTC+0:20190205T183000
DTSTAMP:20190228T134822
CREATED:20190131T041031Z
LAST-MODIFIED:20190131T041031Z
UID:2413-1549379700-1549391400@www.bellarinesc.vic.edu.au
SUMMARY:Year 10 Laptop Collection - DR Campus
DESCRIPTION:
URL:http://www.bellarinesc.vic.edu.au/event/year-10-laptop-collection-dr-campus/
END:VEVENT
BEGIN:VEVENT
DTSTART;VALUE=DATE:20190207
DTEND;VALUE=DATE:20190208
DTSTAMP:20190228T134822
CREATED:20190124T022057Z
LAST-MODIFIED:20190124T022057Z
UID:2388-1549497600-1549583999@www.bellarinesc.vic.edu.au
SUMMARY:Whole School Swimming Sports - ALL STUDENTS MUST ATTEND
DESCRIPTION:
URL:http://www.bellarinesc.vic.edu.au/event/whole-school-swimming-sports-all-students-must-attend/
END:VEVENT
BEGIN:VEVENT
DTSTART;VALUE=DATE:20190211
DTEND;VALUE=DATE:20190214
DTSTAMP:20190228T134822
CREATED:20190131T040704Z
LAST-MODIFIED:20190131T040704Z
UID:2407-1549843200-1550102399@www.bellarinesc.vic.edu.au
SUMMARY:Year 7 Camp - All Year 7 Students
DESCRIPTION:
URL:http://www.bellarinesc.vic.edu.au/event/year-7-camp-all-year-7-students/
END:VEVENT
BEGIN:VEVENT
DTSTART;VALUE=DATE:20190214
DTEND;VALUE=DATE:20190215
DTSTAMP:20190228T134822
CREATED:20190131T040750Z
LAST-MODIFIED:20190131T040750Z
UID:2409-1550102400-1550188799@www.bellarinesc.vic.edu.au
SUMMARY:Staff PD day - Student Free day
DESCRIPTION:
URL:http://www.bellarinesc.vic.edu.au/event/staff-pd-day-student-free-day/
END:VEVENT
BEGIN:VEVENT
DTSTART;TZID=UTC+0:20190218T151500
DTEND;TZID=UTC+0:20190218T183000
DTSTAMP:20190228T134822
CREATED:20190131T040848Z
LAST-MODIFIED:20190131T040848Z
UID:2411-1550502900-1550514600@www.bellarinesc.vic.edu.au
SUMMARY:Year 7 Laptop Collection\, OG Campus
DESCRIPTION:
URL:http://www.bellarinesc.vic.edu.au/event/year-7-laptop-collection-og-campus/
END:VEVENT
BEGIN:VEVENT
DTSTART;VALUE=DATE:20190219
DTEND;VALUE=DATE:20190220
DTSTAMP:20190228T134822
CREATED:20190131T041124Z
LAST-MODIFIED:20190131T041124Z
UID:2415-1550534400-1550620799@www.bellarinesc.vic.edu.au
SUMMARY:School Photos
DESCRIPTION:
URL:http://www.bellarinesc.vic.edu.au/event/school-photos/
END:VEVENT
BEGIN:VEVENT
DTSTART;TZID=UTC+0:20190221T180000
DTEND;TZID=UTC+0:20190221T193000
DTSTAMP:20190228T134822
CREATED:20190220T035839Z
LAST-MODIFIED:20190220T035839Z
UID:2448-1550772000-1550777400@www.bellarinesc.vic.edu.au
SUMMARY:Year 12 BBQ / Elevate - Session 6:00pm Drysdale
DESCRIPTION:
URL:http://www.bellarinesc.vic.edu.au/event/year-12-bbq-elevate-session-600pm-drysdale/
END:VEVENT
BEGIN:VEVENT
DTSTART;VALUE=DATE:20190222
DTEND;VALUE=DATE:20190223
DTSTAMP:20190228T134822
CREATED:20190131T041336Z
LAST-MODIFIED:20190131T041336Z
UID:2417-1550793600-1550879999@www.bellarinesc.vic.edu.au
SUMMARY:All Essential College Levies Due or Payment Plans Finalised
DESCRIPTION:
URL:http://www.bellarinesc.vic.edu.au/event/all-essential-college-levies-due-or-payment-plans-finalised-2/
END:VEVENT
BEGIN:VEVENT
DTSTART;TZID=UTC+0:20190225T180000
DTEND;TZID=UTC+0:20190225T200000
DTSTAMP:20190228T134822
CREATED:20190131T041525Z
LAST-MODIFIED:20190131T041525Z
UID:2419-1551117600-1551124800@www.bellarinesc.vic.edu.au
SUMMARY:Year 7 Parent/Guardian/Student BBQ at Ocean Grove Campus
DESCRIPTION:
URL:http://www.bellarinesc.vic.edu.au/event/year-7-parent-guardian-student-bbq-at-ocean-grove-campus/
END:VEVENT
BEGIN:VEVENT
DTSTART;TZID=UTC+0:20190227T160000
DTEND;TZID=UTC+0:20190227T170000
DTSTAMP:20190228T134822
CREATED:20190220T035910Z
LAST-MODIFIED:20190220T035910Z
UID:2450-1551283200-1551286800@www.bellarinesc.vic.edu.au
SUMMARY:College Council @ Drysdale Campus
DESCRIPTION:
URL:http://www.bellarinesc.vic.edu.au/event/college-council-drysdale-campus/
END:VEVENT
END:VCALENDAR